BEGIN:VCALENDAR
VERSION:2.0
PRODID:-//wp-events-plugin.com//6.6.4.4//EN
TZID:America/Kentucky/Louisville
X-WR-TIMEZONE:America/Kentucky/Louisville
BEGIN:VEVENT
UID:33@kyhumane.mediauradev.com
DTSTART;VALUE=DATE:20230101
DTEND;VALUE=DATE:20230102
DTSTAMP:20250724T154356Z
URL:https://kyhumane.mediauradev.com/events/virtual-positively-puppies-rec
 ommended-for-puppies-8-15-weeks/
SUMMARY:VIRTUAL Positively Puppies classes\, puppies 8-15 weeks
DESCRIPTION:$90 +tax Enroll in a Virtual class. We are offering Positively 
 Puppies for puppies 8-15 weeks. Learn more by clicking this event!\n\nGet 
 started on the right foot with all of your puppy basics including puppy pl
 ay-biting\, potty training\, introducing the leash\, and even early social
 ization along with all of your early puppy skills.
ATTACH;FMTTYPE=image/jpeg:https://kyhumane.mediauradev.com/wp-content/uplo
 ads/2023/10/52911996083_53873d6169_c-e1756475413898.jpg
CATEGORIES:Virtual
LOCATION:Virtual Event\, Online Event\, Louisville\, Ky\, 40214\, United St
 ates
X-APPLE-STRUCTURED-LOCATION;VALUE=URI;X-ADDRESS=Online Event\, Louisville\,
  Ky\, 40214\, United States;X-APPLE-RADIUS=100;X-TITLE=Virtual Event:geo:0
 ,0
END:VEVENT
END:VCALENDAR