BEGIN:VCALENDAR
VERSION:2.0
PRODID:-//wp-events-plugin.com//6.6.4.4//EN
TZID:America/Kentucky/Louisville
X-WR-TIMEZONE:America/Kentucky/Louisville
BEGIN:VEVENT
UID:528@kyhumane.mediauradev.com
DTSTART;TZID=America/Kentucky/Louisville:20250601T120000
DTEND;TZID=America/Kentucky/Louisville:20250601T160000
DTSTAMP:20250502T194752Z
URL:https://kyhumane.mediauradev.com/events/waggin-tail-on-the-waterfront-
 3/
SUMMARY:Waggin' Tail on the Waterfront
DESCRIPTION:\nSAVE THE DATE! Louisville's favorite dog-friendly family fest
 ival is back Join us for the 31st annual Waggin’ Tail on the Waterfront\
 , presented by MetLife Pet Insurance. This exciting and heartwarming festi
 val hosts more than 1\,000 animal lovers and their pets attend each year\,
  and we can't wait for you to join us!\n\n\nWaggin' Tail has something for
  everyone! Families enjoy face painting and puppy cuddling\; adults savor 
 craft brews and food trucks\; and four-legged attendees indulge in canine 
 tattoos and dog portraits. With live music\, a wide variety of vendors and
  activities for all ages\, it's sure to be a paw-some celebration!\n\n\nLe
 arn more: https://kyhumane.mediauradev.com/waggintail/\n\n\n**Fur-iendly 
 reminder: Please ensure your four-legged friends are fully vaccinated and 
 remain leashed at all times while enjoying Waggin' Tail on the Waterfront!
 \n\n\nWant to sponsor Waggin' Tail on the Waterfront? Contact Rosemary Cun
 diff-Brown at rcundiffbrown@kyhumane.org or 502-272-1054
ATTACH;FMTTYPE=image/jpeg:https://kyhumane.mediauradev.com/wp-content/uplo
 ads/2025/05/waggin-tail.jpg
LOCATION:Waterfront Park’s Festival Plaza\, 231 Witherspoon Street\, Loui
 sville\, KY\, 40202\, United States
X-APPLE-STRUCTURED-LOCATION;VALUE=URI;X-ADDRESS=231 Witherspoon Street\, Lo
 uisville\, KY\, 40202\, United States;X-APPLE-RADIUS=100;X-TITLE=Waterfron
 t Park’s Festival Plaza:geo:0,0
END:VEVENT
BEGIN:VTIMEZONE
TZID:America/Kentucky/Louisville
X-LIC-LOCATION:America/Kentucky/Louisville
BEGIN:DAYLIGHT
DTSTART:20250309T030000
TZOFFSETFROM:-0500
TZOFFSETTO:-0400
TZNAME:EDT
END:DAYLIGHT
END:VTIMEZONE
END:VCALENDAR