BEGIN:VCALENDAR
VERSION:2.0
PRODID:-//wp-events-plugin.com//6.6.4.4//EN
TZID:America/Kentucky/Louisville
X-WR-TIMEZONE:America/Kentucky/Louisville
BEGIN:VEVENT
UID:154@kyhumane.mediauradev.com
DTSTART;TZID=America/Kentucky/Louisville;VALUE=DATE:20220526
DTEND;TZID=America/Kentucky/Louisville;VALUE=DATE:20220530
DTSTAMP:20220526T134716Z
URL:https://kyhumane.mediauradev.com/events/waived-adoption-fees-for-adult
 -cats-and-large-dogs/
SUMMARY:Waived Adoption Fees for Adult Cats and Large Dogs!
DESCRIPTION:\n\n\n\n\nWaived Adoption Fees for Adult Cats and Large Dogs!\n
 \n\n\nIf you’ve been looking to adopt a grateful dog or cat\, there
 ’s no better time! Beginning Thursday\, May 26 through Sunday\, May 29\,
  the Kentucky Humane Society is waiving adoption fees for dogs weighing ov
 er 40 pounds and for cats age one year and older.\n\n\n\nThe adoption spec
 ial will take place at the Sam Swope Pet TLC (also known as Main Campus) l
 ocated at 241 Steedly Drive and at the East Campus adoption center\, locat
 ed at 1000 Lyndon Lane. Cats located at the&nbsp\;Purrfect Day Cafe&nbsp\;
 will not be included in the adoption special.\n\n\n\nThe KHS adoption fee 
 for dogs over 40 pounds is usually $200 and the adult cat adoption fee is 
 $80\, so the event offers significant savings for families and individuals
  who are looking to adopt their new best friend. Jefferson County resident
 s who choose to adopt will still be required to pay a $10.50 licensing fee
 . Donations are gratefully accepted!\n\n\n\nVisit our adoptable animals at
  the Main Campus weekdays from 11:00 a.m. – 5:30 p.m. and weekends 11:00
  a.m. – 4:30 p.m. No appointment is required. Adoption application submi
 ssions end 30 minutes before closing. Visit our adoptable animals at the E
 ast Campus weekdays from 10:00 a.m. – 5:30 p.m. and weekends 10:00 a.m. 
 – 4:30 p.m.\n\n\n\nSam Swope Pet Treatment &amp\; Lifesaving Center (Mai
 n Campus)\, 241 Steedly DriveEast Campus\, 1000 Lyndon Lane\n\n\n\nView al
 l KHS adoptable dogs and their locations at www.kyhumane.org/dogs.\n\n\n\
 nView all KHS adoptable cats and their locations at www.kyhumane.org/cats
 .\n
ATTACH;FMTTYPE=image/jpeg:https://kyhumane.mediauradev.com/wp-content/uplo
 ads/2022/05/52016888272_2aeed54311_c-1.jpg
END:VEVENT
BEGIN:VTIMEZONE
TZID:America/Kentucky/Louisville
X-LIC-LOCATION:America/Kentucky/Louisville
BEGIN:DAYLIGHT
DTSTART:20220313T030000
TZOFFSETFROM:-0500
TZOFFSETTO:-0400
TZNAME:EDT
END:DAYLIGHT
END:VTIMEZONE
END:VCALENDAR