BEGIN:VCALENDAR
VERSION:2.0
PRODID:-//wp-events-plugin.com//6.6.4.4//EN
TZID:America/Kentucky/Louisville
X-WR-TIMEZONE:America/Kentucky/Louisville
BEGIN:VEVENT
UID:445@kyhumane.mediauradev.com
DTSTART;TZID=America/Kentucky/Louisville:20240914T110000
DTEND;TZID=America/Kentucky/Louisville:20240915T160000
DTSTAMP:20240906T170215Z
URL:https://kyhumane.mediauradev.com/events/waived-adoption-fees-sponsored
 -by-metlife-pet-insurance/
SUMMARY:WAIVED Adoption Fees Sponsored by MetLife Pet Insurance!
DESCRIPTION:\n\nAmazing news! Our friends at MetLife Pet Insurance are spon
 soring two days of waived adoption fees for adult cats and dogs at KHS thi
 s weekend. That's right\; if you've been thinking about bringing home a fu
 rry companion\, come to our Sam Swope Pet TLC or East Campus on Saturday o
 r Sunday and MetLife will cover your adoption fees. All cats and dogs 1 ye
 ar+ are included in this special promotion. KHS' shelter is full of amazin
 g companion animals. All they are waiting for is YOU!
ATTACH;FMTTYPE=image/jpeg:https://kyhumane.mediauradev.com/wp-content/uplo
 ads/2024/09/Waived-Adoption-Fee-scaled.jpg
END:VEVENT
BEGIN:VTIMEZONE
TZID:America/Kentucky/Louisville
X-LIC-LOCATION:America/Kentucky/Louisville
BEGIN:DAYLIGHT
DTSTART:20240310T030000
TZOFFSETFROM:-0500
TZOFFSETTO:-0400
TZNAME:EDT
END:DAYLIGHT
END:VTIMEZONE
END:VCALENDAR