BEGIN:VCALENDAR
VERSION:2.0
PRODID:-//wp-events-plugin.com//6.6.4.4//EN
TZID:America/Kentucky/Louisville
X-WR-TIMEZONE:America/Kentucky/Louisville
BEGIN:VEVENT
UID:621@kyhumane.mediauradev.com
DTSTART;TZID=America/Kentucky/Louisville:20260108T180000
DTEND;TZID=America/Kentucky/Louisville:20260122T190000
DTSTAMP:20251210T161628Z
URL:https://kyhumane.mediauradev.com/events/walk-this-way-3-week-leash-wal
 king-workshop-dogs-4-months-and-older-2/
SUMMARY:Walk This Way 3-week leash walking workshop\, dogs 4 months and old
 er
DESCRIPTION:3 weeks\nThursdays\, 6:00 - 7:00 pm\n\nInstructor: Jordan\n$90 
 +tax\n\nImprove your dog's leash manners and get more enjoyment out of you
 r walks! This three week class is all about loose leash walking. 
ATTACH;FMTTYPE=image/jpeg:https://kyhumane.mediauradev.com/wp-content/uplo
 ads/2025/08/thumbnail_54520039164_a4d68aaeec_k-1-e1756476028445.jpg
CATEGORIES:Behavior Training
LOCATION:Kentucky Humane Society East Campus\, 1000 Lyndon Lane\, Louisvill
 e\, KY \, 40222\, United States
X-APPLE-STRUCTURED-LOCATION;VALUE=URI;X-ADDRESS=1000 Lyndon Lane\, Louisvil
 le\, KY \, 40222\, United States;X-APPLE-RADIUS=100;X-TITLE=Kentucky Human
 e Society East Campus:geo:0,0
END:VEVENT
BEGIN:VTIMEZONE
TZID:America/Kentucky/Louisville
X-LIC-LOCATION:America/Kentucky/Louisville
BEGIN:STANDARD
DTSTART:20251102T010000
TZOFFSETFROM:-0400
TZOFFSETTO:-0500
TZNAME:EST
END:STANDARD
END:VTIMEZONE
END:VCALENDAR