BEGIN:VCALENDAR
VERSION:2.0
PRODID:-//wp-events-plugin.com//6.6.4.4//EN
TZID:America/Kentucky/Louisville
X-WR-TIMEZONE:America/Kentucky/Louisville
BEGIN:VEVENT
UID:200@kyhumane.mediauradev.com
DTSTART;TZID=America/Kentucky/Louisville:20221205T191500
DTEND;TZID=America/Kentucky/Louisville:20221205T201500
DTSTAMP:20221122T204808Z
URL:https://kyhumane.mediauradev.com/events/walk-this-way-dogs-4-months-an
 d-older-instructor-katy-length-3-weeks-cost-75-00-12052022/
SUMMARY:Walk This Way\, dogs 4 months and older
DESCRIPTION:3 week leash walking workshop\nMondays\, 7:15 - 8:15 pm\n$75 +t
 ax\n\nImprove your dog's leash manners and get more enjoyment out of your 
 walks! This three week class is all about loose leash walking. 
ATTACH;FMTTYPE=image/jpeg:https://kyhumane.mediauradev.com/wp-content/uplo
 ads/2022/10/52354211335_84fed0ac00_c.jpg
CATEGORIES:Behavior Training
LOCATION:Kentucky Humane Society East Campus\, 1000 Lyndon Lane\, Louisvill
 e\, KY \, 40222\, United States
X-APPLE-STRUCTURED-LOCATION;VALUE=URI;X-ADDRESS=1000 Lyndon Lane\, Louisvil
 le\, KY \, 40222\, United States;X-APPLE-RADIUS=100;X-TITLE=Kentucky Human
 e Society East Campus:geo:0,0
END:VEVENT
BEGIN:VTIMEZONE
TZID:America/Kentucky/Louisville
X-LIC-LOCATION:America/Kentucky/Louisville
BEGIN:STANDARD
DTSTART:20221106T010000
TZOFFSETFROM:-0400
TZOFFSETTO:-0500
TZNAME:EST
END:STANDARD
END:VTIMEZONE
END:VCALENDAR