BEGIN:VCALENDAR
VERSION:2.0
PRODID:-//wp-events-plugin.com//6.6.4.4//EN
TZID:America/Kentucky/Louisville
X-WR-TIMEZONE:America/Kentucky/Louisville
BEGIN:VEVENT
UID:376@kyhumane.mediauradev.com
DTSTART;TZID=America/Kentucky/Louisville:20240423T191500
DTEND;TZID=America/Kentucky/Louisville:20240423T201500
DTSTAMP:20240411T140038Z
URL:https://kyhumane.mediauradev.com/events/wallflowers-dogs-4-months-and-
 older-04232024/
SUMMARY:Wallflowers\, dogs 4 months and older
DESCRIPTION:*This class is currently full. Please email Behavior@kyhumane.o
 rg to be added to the waitlist.\n\n6 weeks\nTuesdays\, 7:15 - 8:15 pm\nIns
 tructor: Sue\n$200 +tax\n\nWe are here to help dogs who are nervous about 
 the world. Learn how build your dog's confidence around sounds\, people\, 
 and new things. 
ATTACH;FMTTYPE=image/jpeg:https://kyhumane.mediauradev.com/wp-content/uplo
 ads/2023/11/52185311438_4d7e9413b9_c.jpg
CATEGORIES:Behavior Training
LOCATION:Kentucky Humane Society East Campus\, 1000 Lyndon Lane\, Louisvill
 e\, KY \, 40222\, United States
X-APPLE-STRUCTURED-LOCATION;VALUE=URI;X-ADDRESS=1000 Lyndon Lane\, Louisvil
 le\, KY \, 40222\, United States;X-APPLE-RADIUS=100;X-TITLE=Kentucky Human
 e Society East Campus:geo:0,0
END:VEVENT
BEGIN:VTIMEZONE
TZID:America/Kentucky/Louisville
X-LIC-LOCATION:America/Kentucky/Louisville
BEGIN:DAYLIGHT
DTSTART:20240310T030000
TZOFFSETFROM:-0500
TZOFFSETTO:-0400
TZNAME:EDT
END:DAYLIGHT
END:VTIMEZONE
END:VCALENDAR