BEGIN:VCALENDAR
VERSION:2.0
PRODID:-//wp-events-plugin.com//6.6.4.4//EN
TZID:America/Kentucky/Louisville
X-WR-TIMEZONE:America/Kentucky/Louisville
BEGIN:VEVENT
UID:395@kyhumane.mediauradev.com
DTSTART;TZID=America/Kentucky/Louisville:20241020T140000
DTEND;TZID=America/Kentucky/Louisville:20241124T150000
DTSTAMP:20241104T133658Z
URL:https://kyhumane.mediauradev.com/events/wallflowers-dogs-4-months-and-
 older-06252024/
SUMMARY:Wallflowers\, dogs 4 months and older
DESCRIPTION:6 weeks\nSundays\, 2:00 - 3:00 pm\nInstructor: Cherie\n$225 +ta
 x\n\n**CONTACT US TO FIND OUT ABOUT LATE ENROLLMENT**\n\nWe are here to he
 lp dogs who are nervous about the world. Learn how build your dog's confid
 ence around sounds\, people\, and new things. 
ATTACH;FMTTYPE=image/jpeg:https://kyhumane.mediauradev.com/wp-content/uplo
 ads/2023/11/52185311438_4d7e9413b9_c.jpg
CATEGORIES:Behavior Training
LOCATION:Kentucky Humane Society East Campus\, 1000 Lyndon Lane\, Louisvill
 e\, KY \, 40222\, United States
X-APPLE-STRUCTURED-LOCATION;VALUE=URI;X-ADDRESS=1000 Lyndon Lane\, Louisvil
 le\, KY \, 40222\, United States;X-APPLE-RADIUS=100;X-TITLE=Kentucky Human
 e Society East Campus:geo:0,0
END:VEVENT
BEGIN:VTIMEZONE
TZID:America/Kentucky/Louisville
X-LIC-LOCATION:America/Kentucky/Louisville
BEGIN:DAYLIGHT
DTSTART:20240310T030000
TZOFFSETFROM:-0500
TZOFFSETTO:-0400
TZNAME:EDT
END:DAYLIGHT
BEGIN:STANDARD
DTSTART:20241103T010000
TZOFFSETFROM:-0400
TZOFFSETTO:-0500
TZNAME:EST
END:STANDARD
END:VTIMEZONE
END:VCALENDAR