BEGIN:VCALENDAR
VERSION:2.0
PRODID:-//wp-events-plugin.com//6.6.4.4//EN
TZID:America/Kentucky/Louisville
X-WR-TIMEZONE:America/Kentucky/Louisville
BEGIN:VEVENT
UID:305@kyhumane.mediauradev.com
DTSTART;TZID=America/Kentucky/Louisville:20230909T111500
DTEND;TZID=America/Kentucky/Louisville:20230909T121500
DTSTAMP:20230906T185238Z
URL:https://kyhumane.mediauradev.com/events/wallflowers-dogs-4-months-and-
 older-09092023/
SUMMARY:Wallflowers\, dogs 4 months and older
DESCRIPTION:6 weeks\nSaturdays\, 11:15 am - 12:15 pm\n$200 +tax\n\nWe are h
 ere to help dogs who are nervous about the world. Learn how build your dog
 's confidence around sounds\, people\, and new things. 
CATEGORIES:Behavior Training
LOCATION:Kentucky Humane Society East Campus\, 1000 Lyndon Lane\, Louisvill
 e\, KY \, 40222\, United States
X-APPLE-STRUCTURED-LOCATION;VALUE=URI;X-ADDRESS=1000 Lyndon Lane\, Louisvil
 le\, KY \, 40222\, United States;X-APPLE-RADIUS=100;X-TITLE=Kentucky Human
 e Society East Campus:geo:0,0
END:VEVENT
BEGIN:VTIMEZONE
TZID:America/Kentucky/Louisville
X-LIC-LOCATION:America/Kentucky/Louisville
BEGIN:DAYLIGHT
DTSTART:20230312T030000
TZOFFSETFROM:-0500
TZOFFSETTO:-0400
TZNAME:EDT
END:DAYLIGHT
END:VTIMEZONE
END:VCALENDAR