BEGIN:VCALENDAR
VERSION:2.0
PRODID:-//wp-events-plugin.com//6.6.4.4//EN
TZID:America/Kentucky/Louisville
X-WR-TIMEZONE:America/Kentucky/Louisville
BEGIN:VEVENT
UID:450@kyhumane.mediauradev.com
DTSTART;TZID=America/Kentucky/Louisville:20241005T120000
DTEND;TZID=America/Kentucky/Louisville:20241005T150000
DTSTAMP:20240909T204431Z
URL:https://kyhumane.mediauradev.com/events/watch-hill-propers-hair-of-the
 -dog/
SUMMARY:Watch Hill Proper's Hair of the Dog
DESCRIPTION:\n\n\nBring the whole family and "fur family" to our first ever
  "Hair of the Dog" Adoption &amp\; Benefit Event for the Kentucky Humane S
 ociety. Adoptable puppies will be on-site outside Watch Hill Proper in the
  North Village Square Oct 5th from 12-3pm. Bring your own pups to meet\, m
 ingle and enjoy treats!\n\n\n\nFor the humans\, we'll have Whiskey Cider S
 lushies\, Sangria\, "Hair of the Dog" Old Fashioneds\, Pasta Bolognese\, L
 obster Roll Sliders\, and Hot Dogs. There will be a raffle for a 7 course 
 tasting dinner for two at Watch Hill Proper. Joining us will be our friend
 s Atrium Brewing and Woof Gang Bakery &amp\; Grooming. A portion of all pr
 oceeds from the afternoon will benefit the Kentucky Humane Society. This e
 vent is free &amp\; all ages are welcome!\n
ATTACH;FMTTYPE=image/jpeg:https://kyhumane.mediauradev.com/wp-content/uplo
 ads/2024/09/Watch-Hill-Proper.jpg
LOCATION:Watch Hill Proper\, 11201 River Beauty Loop\, Prospect\, KY 40059\
 , Louisville\, Kentucky\, United States
X-APPLE-STRUCTURED-LOCATION;VALUE=URI;X-ADDRESS=11201 River Beauty Loop\, P
 rospect\, KY 40059\, Louisville\, Kentucky\, United States;X-APPLE-RADIUS=
 100;X-TITLE=Watch Hill Proper:geo:0,0
END:VEVENT
BEGIN:VTIMEZONE
TZID:America/Kentucky/Louisville
X-LIC-LOCATION:America/Kentucky/Louisville
BEGIN:DAYLIGHT
DTSTART:20240310T030000
TZOFFSETFROM:-0500
TZOFFSETTO:-0400
TZNAME:EDT
END:DAYLIGHT
END:VTIMEZONE
END:VCALENDAR