BEGIN:VCALENDAR
VERSION:2.0
PRODID:-//wp-events-plugin.com//6.6.4.4//EN
TZID:America/Kentucky/Louisville
X-WR-TIMEZONE:America/Kentucky/Louisville
BEGIN:VEVENT
UID:90@kyhumane.mediauradev.com
DTSTART;TZID=America/Kentucky/Louisville:20211201T000000
DTEND;TZID=America/Kentucky/Louisville:20220103T000000
DTSTAMP:20211129T183401Z
URL:https://kyhumane.mediauradev.com/events/willow-hope-farm-holiday-exper
 ience/
SUMMARY:Willow Hope Farm Holiday Experience
DESCRIPTION:\n\n\n\n\nKHS HORSES WANT TO MEET YOU! Join us for the Willow H
 ope Farm Holiday Experience! \n\n\n\nFor a&nbsp\;$150 donation\, enjoy a h
 oliday-themed behind-the-scenes interactive tour at the Kentucky Humane So
 ciety's equine barn\, Willow Hope Farm\, in Simpsonville KY. You'll learn 
 about our rescue mission and meet horses in our care. Plus\, end your tour
  with a photo featuring one of our rescue horses dressed up in holiday att
 ire. Tours are limited to six people. \n\n\n\nTours are available Monday-F
 riday between 11am-2pm November 29-January 3. \n\n\n\nPlease contact Leila
  at lburch@kyhumane.org or 502-515-3134 to schedule a tour.\n
ATTACH;FMTTYPE=image/jpeg:https://kyhumane.mediauradev.com/wp-content/uplo
 ads/2021/11/holiday-horse.jpg
END:VEVENT
BEGIN:VTIMEZONE
TZID:America/Kentucky/Louisville
X-LIC-LOCATION:America/Kentucky/Louisville
BEGIN:STANDARD
DTSTART:20211107T010000
TZOFFSETFROM:-0400
TZOFFSETTO:-0500
TZNAME:EST
END:STANDARD
END:VTIMEZONE
END:VCALENDAR