BEGIN:VCALENDAR
VERSION:2.0
PRODID:-//wp-events-plugin.com//6.6.4.4//EN
TZID:America/Kentucky/Louisville
X-WR-TIMEZONE:America/Kentucky/Louisville
BEGIN:VEVENT
UID:213@kyhumane.mediauradev.com
DTSTART;TZID=America/Kentucky/Louisville:20221129T110000
DTEND;TZID=America/Kentucky/Louisville:20230107T140000
DTSTAMP:20221114T175435Z
URL:https://kyhumane.mediauradev.com/events/willow-hope-farm-holiday-tours
 /
SUMMARY:Willow Hope Farm Holiday Tours
DESCRIPTION:\nJoin us for the Willow Hope Farm Holiday Experience! For a $1
 50 donation\, enjoy a holiday-themed\, behind-the-scenes interactive tour 
 at the Kentucky Humane Society's equine barn\, Willow Hope Farm\, located 
 in Simpsonville\, KY. You'll learn more about our rescue mission and meet 
 the horses in our care. Plus\, end your tour with a photo of one of our re
 scue horses dressed in holiday attire.\n\n\n\nTours are limited to six peo
 ple. Tours are available Tuesday through Saturday between 11 am – 2 pm f
 rom November 29 through January 7 (No tours December 23-26 and December 31
 -January 1)\n\n\n\nTo schedule your tour\, contact Katie Murphy\, Equine O
 utreach Manager\, at kmurphy@kyhumane.org or 502-272-1068.\n\n\n\n\nBook N
 ow!\n\n
ATTACH;FMTTYPE=image/jpeg:https://kyhumane.mediauradev.com/wp-content/uplo
 ads/2022/11/49179792402_fde03f8e5f_o-scaled.jpg
LOCATION:KHS Willow Hope Farm\, 4416 Todds Point Road\, Simpsonville\, KY\,
  40067\, United States
X-APPLE-STRUCTURED-LOCATION;VALUE=URI;X-ADDRESS=4416 Todds Point Road\, Sim
 psonville\, KY\, 40067\, United States;X-APPLE-RADIUS=100;X-TITLE=KHS Will
 ow Hope Farm:geo:0,0
END:VEVENT
BEGIN:VTIMEZONE
TZID:America/Kentucky/Louisville
X-LIC-LOCATION:America/Kentucky/Louisville
BEGIN:STANDARD
DTSTART:20221106T010000
TZOFFSETFROM:-0400
TZOFFSETTO:-0500
TZNAME:EST
END:STANDARD
END:VTIMEZONE
END:VCALENDAR