BEGIN:VCALENDAR
VERSION:2.0
PRODID:-//wp-events-plugin.com//6.6.4.4//EN
TZID:America/Kentucky/Louisville
X-WR-TIMEZONE:America/Kentucky/Louisville
BEGIN:VEVENT
UID:297@kyhumane.mediauradev.com
DTSTART;TZID=America/Kentucky/Louisville:20230826T100000
DTEND;TZID=America/Kentucky/Louisville:20230826T140000
DTSTAMP:20230812T150304Z
URL:https://kyhumane.mediauradev.com/events/willow-hope-farm-open-house/
SUMMARY:Willow Hope Farm Open House
DESCRIPTION:\n\n\n\n\nStop by to meet our horses on August 26!\n\n\n\nWe're
  hosting an Open House at our Willow Hope Farm on Saturday\, August 26 and
  you're invited! Stop by between 10 a.m.-2 p.m. to enjoy the serenity of t
 he farm and learn about our Equine C.A.R.E. programs. Willow Hope Farm is 
 located at 4416 Todds Point Rd\, Simpsonville\, KY 40067.\n\n\n\nYou'll ge
 t to meet some of the wonderful horses in our care! No registration is req
 uired and all ages are welcome at this "rain or shine" event\, so bring th
 e whole family or come alone and meet fellow horse-lovers. We can't wait t
 o see you! \n
ATTACH;FMTTYPE=image/jpeg:https://kyhumane.mediauradev.com/wp-content/uplo
 ads/2023/05/51227211941_1fc7cfd66d_k.jpg
LOCATION:KHS Willow Hope Farm\, 4416 Todds Point Road\, Simpsonville\, KY\,
  40067\, United States
X-APPLE-STRUCTURED-LOCATION;VALUE=URI;X-ADDRESS=4416 Todds Point Road\, Sim
 psonville\, KY\, 40067\, United States;X-APPLE-RADIUS=100;X-TITLE=KHS Will
 ow Hope Farm:geo:0,0
END:VEVENT
BEGIN:VTIMEZONE
TZID:America/Kentucky/Louisville
X-LIC-LOCATION:America/Kentucky/Louisville
BEGIN:DAYLIGHT
DTSTART:20230312T030000
TZOFFSETFROM:-0500
TZOFFSETTO:-0400
TZNAME:EDT
END:DAYLIGHT
END:VTIMEZONE
END:VCALENDAR