BEGIN:VCALENDAR
VERSION:2.0
PRODID:-//wp-events-plugin.com//6.6.4.4//EN
TZID:America/Kentucky/Louisville
X-WR-TIMEZONE:America/Kentucky/Louisville
BEGIN:VEVENT
UID:27@kyhumane.mediauradev.com
DTSTART:20210821T180000Z
DTEND:20210821T220000Z
DTSTAMP:20210729T011142Z
URL:https://kyhumane.mediauradev.com/events/woofstock-tuxes-tails-gala/
SUMMARY:Woofstock: Tuxes & Tails Gala
DESCRIPTION:Looking for some good vibes this year? Join us for the 27th ann
 ual Tuxes & Tails Gala in-person at Louisville Marriott Downtown or virtua
 lly on Saturday\, August 21\, 2021. Can you dig it?
ATTACH;FMTTYPE=image/jpeg:https://kyhumane.mediauradev.com/wp-content/uplo
 ads/2021/06/furry_friends_hippy.jpg
LOCATION:Louisville Marriott Downtown\, 280 W Jefferson St\, Louisville\, K
 y\, 40202\, United States
X-APPLE-STRUCTURED-LOCATION;VALUE=URI;X-ADDRESS=280 W Jefferson St\, Louisv
 ille\, Ky\, 40202\, United States;X-APPLE-RADIUS=100;X-TITLE=Louisville Ma
 rriott Downtown:geo:0,0
END:VEVENT
END:VCALENDAR