BEGIN:VCALENDAR
VERSION:2.0
PRODID:-//wp-events-plugin.com//6.6.4.4//EN
TZID:America/Kentucky/Louisville
X-WR-TIMEZONE:America/Kentucky/Louisville
BEGIN:VEVENT
UID:444@kyhumane.mediauradev.com
DTSTART;TZID=America/Kentucky/Louisville:20241005T140000
DTEND;TZID=America/Kentucky/Louisville:20241005T163000
DTSTAMP:20240930T165203Z
URL:https://kyhumane.mediauradev.com/events/yappy-hour-with-apocalypse-bre
 w-works/
SUMMARY:Yappy Hour with Apocalypse Brew Works
DESCRIPTION:\nJoin us at Apocalypse Brew Works for a unique fundraiser!\n\n
 Homebrewers from LAGERS have teamed up with Apocalypse Brew Works and Brew
 grass Homebrew Supply to craft 20 exclusive beers for your tasting pleasur
 e. Bring your furry friend to Apocalypse Brew Works on October 5th for a d
 ay of fun\, food\, and fantastic brews. All proceeds go to the Kentucky Hu
 mane Society. Admission is free! Let's raise our glasses (and paws) for a 
 fantastic cause!\n\nAll proceeds go towards providing shelter\, medical ca
 re\, and love to animals who\, in return\, grace us with their boundless a
 ffection and loyalty.
ATTACH;FMTTYPE=image/jpeg:https://kyhumane.mediauradev.com/wp-content/uplo
 ads/2024/09/2024Yappy-Hour-pic.jpg
LOCATION:Apocalypse Brew Works\, 1612 Mellwood Avenue\, Louisville\, KY\, 4
 0206\, United States
X-APPLE-STRUCTURED-LOCATION;VALUE=URI;X-ADDRESS=1612 Mellwood Avenue\, Loui
 sville\, KY\, 40206\, United States;X-APPLE-RADIUS=100;X-TITLE=Apocalypse 
 Brew Works:geo:0,0
END:VEVENT
BEGIN:VTIMEZONE
TZID:America/Kentucky/Louisville
X-LIC-LOCATION:America/Kentucky/Louisville
BEGIN:DAYLIGHT
DTSTART:20240310T030000
TZOFFSETFROM:-0500
TZOFFSETTO:-0400
TZNAME:EDT
END:DAYLIGHT
END:VTIMEZONE
END:VCALENDAR