BEGIN:VCALENDAR
VERSION:2.0
PRODID:-//wp-events-plugin.com//6.6.4.4//EN
TZID:America/Kentucky/Louisville
X-WR-TIMEZONE:America/Kentucky/Louisville
BEGIN:VEVENT
UID:52@kyhumane.mediauradev.com
DTSTART:20210730T160000Z
DTEND:20210730T190000Z
DTSTAMP:20210729T011213Z
URL:https://kyhumane.mediauradev.com/events/yappy-hour-with-titos-handmade
 -vodka/
SUMMARY:Yappy Hour with Tito's Handmade Vodka
DESCRIPTION:Join us at Liquor Barn Middletown
ATTACH;FMTTYPE=image/jpeg:https://kyhumane.mediauradev.com/wp-content/uplo
 ads/2021/07/219464107_4041067489325753_8674998503638838788_n.jpg
END:VEVENT
END:VCALENDAR